BEGIN:VCALENDAR
VERSION:2.0
PRODID:-//Amanohashidate Tourist Information - ECPv6.0.12//NONSGML v1.0//EN
CALSCALE:GREGORIAN
METHOD:PUBLISH
X-WR-CALNAME:Amanohashidate Tourist Information
X-ORIGINAL-URL:https://www.amanohashidate.jp/lang/en
X-WR-CALDESC:Events for Amanohashidate Tourist Information
REFRESH-INTERVAL;VALUE=DURATION:PT1H
X-Robots-Tag:noindex
X-PUBLISHED-TTL:PT1H
BEGIN:VTIMEZONE
TZID:Asia/Tokyo
BEGIN:STANDARD
TZOFFSETFROM:+0900
TZOFFSETTO:+0900
TZNAME:JST
DTSTART:20250101T000000
END:STANDARD
END:VTIMEZONE
BEGIN:VEVENT
DTSTART;TZID=Asia/Tokyo:20250705T190000
DTEND;TZID=Asia/Tokyo:20250923T223000
DTSTAMP:20260422T073212
CREATED:20250424T035628Z
LAST-MODIFIED:20250424T071429Z
UID:2330-1751742000-1758666600@www.amanohashidate.jp
SUMMARY:[Amanohashidate Town Lights] Amanohashidate Beach Light-up 2025
DESCRIPTION:Amanohashidate Town Lights is a summer light-up event held in the Monju area on the south side of Amanohashidate.\nDuring the event\, the sandy beach of Amanohashidate will be lit up with a fantastical glow.\nEnjoy the mysterious light space\, whose colors change over time. \nDates: July 5\, 2025 – September 23\, 2025 (19:00 – 22:30)\n※Dates are tentative. \n○What is the Amanohashidate Beach Illumination?\nHeld every night during the event\, the beach of Amanohashidate is illuminated in a fantastical light.\nWhen you pass through the tunnel of light pine trees\, a world of colorful lights spreads across the beach of Amanohashidate\, and the sight of the colors changing over time is truly mystical. \n  \nRelated pages are here → https://www.facebook.com/amanohashidate.machiakari/?epa=SEARCH_BOX
URL:https://www.amanohashidate.jp/lang/en/event/amanohashidate-town-lights-amanohashidate-beach-light-up-2025/
CATEGORIES:Summer
ATTACH;FMTTYPE=image/jpeg:https://www.amanohashidate.jp/lang/en/wp-content/uploads/2025/04/「天橋立まち灯り」天橋立砂浜ライトアップ（2）.jpg
END:VEVENT
BEGIN:VEVENT
DTSTART;TZID=Asia/Tokyo:20250719T180000
DTEND;TZID=Asia/Tokyo:20250809T210000
DTSTAMP:20260422T073212
CREATED:20250424T050640Z
LAST-MODIFIED:20250424T051954Z
UID:2336-1752948000-1754773200@www.amanohashidate.jp
SUMMARY:[Amanohashidate Town Lights] Stroll around 2025
DESCRIPTION:Amanohashidate Town Lights is a summer light-up event held in the Monju area on the south side of Amanohashidate.\nDuring the event\, the sandy beach of Amanohashidate will be lit up with a fantastical glow.\nEnjoy the mysterious light space\, whose colors change over time. \nDates: July 19\, July 26\, August 2\, and August 9\, 2025\nTime: 18:00 – 21:00 \n○Contents of the Amanohashidate Town Lights Stroll\n・Chionji Temple Sanmon Gate and Station Square: Japanese Umbrella Lights\n・Amanohashidate Night Cruise\n・Miyazu Bay Fireworks \n  \nRelated pages are here → https://www.facebook.com/amanohashidate.machiakari/?epa=SEARCH_BOX
URL:https://www.amanohashidate.jp/lang/en/event/amanohashidate-town-lights-stroll-around-2025/
CATEGORIES:Summer
ATTACH;FMTTYPE=image/png:https://www.amanohashidate.jp/lang/en/wp-content/uploads/2025/04/名称未設定のデザイン.png
END:VEVENT
BEGIN:VEVENT
DTSTART;TZID=Asia/Tokyo:20250719T203000
DTEND;TZID=Asia/Tokyo:20250809T203000
DTSTAMP:20260422T073212
CREATED:20250424T051940Z
LAST-MODIFIED:20250424T051940Z
UID:2343-1752957000-1754771400@www.amanohashidate.jp
SUMMARY:Seaside Kyoto Miyazu Bay Fireworks 2025
DESCRIPTION:The Miyazu BAY Fireworks will be held again this year! \n75 fireworks will be launched in about 5 minutes\, lighting up the night sky of Miyazu.\nThis year\, fireworks will be launched from three locations as the finale on August 9th\, so be sure to come along!\n*You can see the fireworks on any date from the sandy beach of Amanohashidate. \n○ Fireworks display dates\nJuly 19th (Sat)…Monju\, 24th (Thu)…Monju\, 26th (Sat)…Monju\, Yura\nAugust 2nd (Sat)…Monju\, 9th (Sat)…Miyazu\, Monju\, Fuchu \n○Fireworks launch times\n20:30 – 20:35 (approximately 5 minutes/75 shots)\n7/24 (Monju)\, 7/26 (Yura) 20:30 – 20:40 (approximately 10 minutes/150 shots)\n※Access will be restricted within 100m of the fireworks from 10 minutes before the launch.\nWe apologize for any inconvenience this may cause\, and thank you for your cooperation. \n○Fireworks display locations\nMiyazu area\, Monju area\, Fuchu area\, Yura area
URL:https://www.amanohashidate.jp/lang/en/event/seaside-kyoto-miyazu-bay-fireworks-2025/
CATEGORIES:Summer
ATTACH;FMTTYPE=image/png:https://www.amanohashidate.jp/lang/en/wp-content/uploads/2025/04/名称未設定のデザイン-1.png
END:VEVENT
BEGIN:VEVENT
DTSTART;TZID=Asia/Tokyo:20250724T130000
DTEND;TZID=Asia/Tokyo:20250724T210000
DTSTAMP:20260422T073212
CREATED:20250424T052343Z
LAST-MODIFIED:20250424T052343Z
UID:2349-1753362000-1753390800@www.amanohashidate.jp
SUMMARY:Amanohashidate Monjudo Boat Departure Festival 2025
DESCRIPTION:At the illuminated Chion-ji Temple\, a Monju-e ceremony will be held and a Manto-e ceremony will be held with dragon lanterns. A night cruise and Miyazu Bay fireworks will also be held at the same time. \nDate and time: Thursday\, July 24\, 2020 \n[Business details]\n1. Chion-ji Temple Illumination\n– Illumination of the temple grounds from the approach to the main hall\, etc.\n2. Dragon Lanterns\n– A Manto-e event where dragon lanterns are hung along the coast based on the legend of the subjugation of an evil dragon.\n3. Lighting of Manto (Dragon Lanterns)\n– Dragon lanterns are hung near Chion-ji Temple beach\, and the Amanohashidate Canal is lit up underwater to create a Manto-e event.\n4. Operation of Amanohashidate Night (Dragon Lantern) Cruise\n– A guided dragon lantern cruise is operated in accordance with the origin of the boat being launched to welcome Manjusri Bodhisattva. You can also enjoy watching the fireworks.\n5. Fireworks (Tento)\n– 150 fireworks (Tento) are launched from the illuminated sands of Amanohashidate.\n6. Manjusri Ceremony \n[Time Schedule]\n13:00 Unveiling of the hidden Buddha statue of Manjusri\n17:00 Distribution of scattered flowers\n19:00 Chionji Temple “Manjusri-e” Ceremony\n20:00 Departure of the Dragon Lantern Cruise (fireworks viewing boat)\n20:30 Miyazu Bay Fireworks (approx. 10 minutes)\n*Chionji Temple is lit up until 21:00 \nPlease come and join us at the Monjudo “Departure Festival”\, which is held in a solemn atmosphere.
URL:https://www.amanohashidate.jp/lang/en/event/amanohashidate-monjudo-boat-departure-festival-2025/
CATEGORIES:Summer
ATTACH;FMTTYPE=image/png:https://www.amanohashidate.jp/lang/en/wp-content/uploads/2025/04/名称未設定のデザイン-2.png
END:VEVENT
END:VCALENDAR