BEGIN:VCALENDAR
VERSION:2.0
PRODID:-//Amanohashidate Tourist Information - ECPv6.0.12//NONSGML v1.0//EN
CALSCALE:GREGORIAN
METHOD:PUBLISH
X-ORIGINAL-URL:https://www.amanohashidate.jp/lang/en
X-WR-CALDESC:Events for Amanohashidate Tourist Information
REFRESH-INTERVAL;VALUE=DURATION:PT1H
X-Robots-Tag:noindex
X-PUBLISHED-TTL:PT1H
BEGIN:VTIMEZONE
TZID:UTC
BEGIN:STANDARD
TZOFFSETFROM:+0000
TZOFFSETTO:+0000
TZNAME:UTC
DTSTART:20190101T000000
END:STANDARD
END:VTIMEZONE
BEGIN:VEVENT
DTSTART;VALUE=DATE:20190320
DTEND;VALUE=DATE:20191201
DTSTAMP:20260426T124344
CREATED:20190321T170035Z
LAST-MODIFIED:20191015T195208Z
UID:1104-1553040000-1575158399@www.amanohashidate.jp
SUMMARY:Sea Kayaking Hands-on Experience at Amanohashidate
DESCRIPTION:Available Season: March 20th-November 30th \nParticipation Fee: Adults (Junior High School and Over) 6\,000 Yen\, Children (Elementary School and Under): 4\,000 Yen \nTimes: 9:30 am-11:30 am\, 1:30 pm-3:30 pm (2 hrs.)  \nCosts Included in Participation Fee: Instruction Fee\, Kayak Rental Fee\, Insurance Fee\, Shower Usage\, Photos (CD-R) \nMaximum Possible Number of Participants: 8\, Minimum: 2 \nMeeting Place: Amanohashidate Activity Center \n\nTo Apply or for Inquiries: \n  \n\n■Amanohashidate Activity Center\nTEL：090-9047-5896■Amanohashidate Tourism Association (English Assistance Available)\nTEL : 0772-22-8030 FAX：0772-22-8710
URL:https://www.amanohashidate.jp/lang/en/event/sea-kayaking-hands-on-experience-amanohashidate-tour/
LOCATION:Amanohashidate Activity Center\, 934-1\, Nakano Miyazu city\, Miyazu\, Japan
CATEGORIES:Autumn,Summer
ATTACH;FMTTYPE=image/jpeg:https://www.amanohashidate.jp/lang/en/wp-content/uploads/2018/12/seak061.jpg
END:VEVENT
BEGIN:VEVENT
DTSTART;TZID=UTC:20190601T080000
DTEND;TZID=UTC:20191130T170000
DTSTAMP:20260426T124344
CREATED:20190321T171505Z
LAST-MODIFIED:20190321T171559Z
UID:1115-1559376000-1575133200@www.amanohashidate.jp
SUMMARY:Morning/ Evening Fishing (No Preparation Needed!)
DESCRIPTION:Available: June 1st-November 30th \n\nParticipation Fee: Adults (Junior High School or Over) 3\,000 Yen\, Children (Elementary School and Under) 2\,000 Yen \nTimes: 6:30 am-8 am\, 4 pm-5:30 pm (1hr. 30 min.) \nCosts Included in Participation Fee:Instruction Fee\, Fishing Equipment Usage\, Bait\, Take-home Refrigerated Bags  \nMaximum Possible Number of Participants: Morning 10\, Evening 4\, Minimum: 2 \nYou can also eat the fish you catch for lunch (Reservations required)! \nTo Apply or for Inquiries:\nAmanohashidate Activity Center\nTEL：090-9047-5896\n\nAmanohashidate Tourism Association\nTEL : 0772-22-8030 FAX：0772-22-8710
URL:https://www.amanohashidate.jp/lang/en/event/morning-evening-fishing-no-preparation-needed/
CATEGORIES:Autumn,Summer
ATTACH;FMTTYPE=image/jpeg:https://www.amanohashidate.jp/lang/en/wp-content/uploads/2018/12/5d4aa2dfc99139f2aca0314fbdd266eb1.jpg
END:VEVENT
END:VCALENDAR