BEGIN:VCALENDAR
VERSION:2.0
PRODID:-//Amanohashidate Tourist Information - ECPv6.0.12//NONSGML v1.0//EN
CALSCALE:GREGORIAN
METHOD:PUBLISH
X-ORIGINAL-URL:https://www.amanohashidate.jp/lang/en
X-WR-CALDESC:Events for Amanohashidate Tourist Information
REFRESH-INTERVAL;VALUE=DURATION:PT1H
X-Robots-Tag:noindex
X-PUBLISHED-TTL:PT1H
BEGIN:VTIMEZONE
TZID:Asia/Tokyo
BEGIN:STANDARD
TZOFFSETFROM:+0900
TZOFFSETTO:+0900
TZNAME:JST
DTSTART:20200101T000000
END:STANDARD
END:VTIMEZONE
BEGIN:VEVENT
DTSTART;TZID=Asia/Tokyo:20200711T190000
DTEND;TZID=Asia/Tokyo:20200930T223000
DTSTAMP:20260426T003454
CREATED:20200711T081548Z
LAST-MODIFIED:20200711T082433Z
UID:1871-1594494000-1601505000@www.amanohashidate.jp
SUMMARY:Amanohashidate Sandbar Lightup project will be started~!!
DESCRIPTION:This year\, we will also open up the “Amanohashidate Sandbar Lightup project!” \nThis is the everyday event between 11th July to 30th Sep\, 7:00p.m. to 10:30p.m.    \nIf you want to calm down yourself by hearing waves sound\, if you want to spend time with someone in romantic or also good to share the moment with your family\, it is good place to go/visit! \nEnjoy the time limited special moment in summer at Amanohashidate sandbar! 🙂
URL:https://www.amanohashidate.jp/lang/en/event/amanohashidate-sandbar-lightup-project-will-be-started/
LOCATION:Amanohashidate Park
CATEGORIES:Summer
ATTACH;FMTTYPE=image/jpeg:https://www.amanohashidate.jp/lang/en/wp-content/uploads/2020/07/砂浜ライトアップ.jpg
END:VEVENT
END:VCALENDAR