BEGIN:VCALENDAR
VERSION:2.0
PRODID:-//Amanohashidate Tourist Information - ECPv6.0.12//NONSGML v1.0//EN
CALSCALE:GREGORIAN
METHOD:PUBLISH
X-ORIGINAL-URL:https://www.amanohashidate.jp/lang/en
X-WR-CALDESC:Events for Amanohashidate Tourist Information
REFRESH-INTERVAL;VALUE=DURATION:PT1H
X-Robots-Tag:noindex
X-PUBLISHED-TTL:PT1H
BEGIN:VTIMEZONE
TZID:Asia/Tokyo
BEGIN:STANDARD
TZOFFSETFROM:+0900
TZOFFSETTO:+0900
TZNAME:JST
DTSTART:20210101T000000
END:STANDARD
END:VTIMEZONE
BEGIN:VEVENT
DTSTART;TZID=Asia/Tokyo:20210722T203000
DTEND;TZID=Asia/Tokyo:20211030T203500
DTSTAMP:20260425T074837
CREATED:20210714T063124Z
LAST-MODIFIED:20211027T041752Z
UID:1995-1626985800-1635626100@www.amanohashidate.jp
SUMMARY:Fireworks at Amanohashidate area
DESCRIPTION:Fireworks display will be held around Amanohashidate area!\nEach days of fireworks display will finish in a short time\, but you can see from various places and in many days! \n【Days】\n■July：22\, 25\n■August：1\, ８\, 15\, 16\, 22\, 29\n■October: 2\, 3\, 9\, 10\, 16\, 17\, 23\, 24\, 30\n\n【Time】\nPM8：30～PM8:35   ※Each day\, about 5 minutes \n【Places】\n■MONJYU Area：Ｍap→天橋立の検索結果 – Yahoo!地図\nJuly 22\nAugust 8\, 22\nOctober 2\,10\,23\,30 \n■FUCHU Area：Ｍap→天橋立の検索結果 – Yahoo!地図\nJuly 25\nAugust 15\, 29\nOctober 3\, 16\, 24\,30 \n■MIYAZU City Area：Ｍap→宮津漁師町 ととまーと – Yahoo!地図\nAugust 1\, 16\nOctober 9\,17\,30 \n■TAI Area　田井海水浴場 – Yahoo!地図\nAugust 7 \n \n【Cruising】\nAt the same day of the fireworks\, (22th July ～26th September)\,\nyou can reserve night time Amanohashidate cruising!\nLet’s watch fireworks display from the sea! \n■Cruising time:\nStart from PM8:00～End aroundＰＭ8:40\n※Fireworks will start from PM8:30 \n■Days:\n■July：22\, 25\n■August：1\,８\, 15\, 16\, 22\, 29 \nFor reservation of cruising\, please access from here!!\n⇓\n打ち上げ花火、陸からみるか海からみるか「ナイトクルーズ」 | 体験プログラム – 天橋立観光協会 (amanohashidate.jp) \n  \n  \n 
URL:https://www.amanohashidate.jp/lang/en/event/fireworks-display-at-amanohashidate-area/
LOCATION:Amanohashidate\, Monjyu Miyazu city\, Kyoto\, MIyazu\, Japan
CATEGORIES:Summer
ATTACH;FMTTYPE=image/jpeg:https://www.amanohashidate.jp/lang/en/wp-content/uploads/2021/07/fe5d4585f8fe59106db8336f7ce1aa19-567x850.jpg
ORGANIZER;CN="Amanohashidate%20Tourism%20Association":MAILTO:info@amanohashidate.jp
END:VEVENT
END:VCALENDAR